Workbook

Sheet приложение 1
N1: ПРИЛОЖЕНИЕ
N3: УТВЕРЖДЕН
N4: постановлением администрации
N5: муниципального образования
N6: Северский район
J7: от ___ _______ 2019 г. № ______
A10: Краткосрочный план реализации Региональной программы капитального ремонта общего имущества собственников помещений в многоквартирных домах по плановому периоду 2020-2022 годов (этап 2021 года), расположенных на территории муниципального образования Северский район
A12: Раздел 1. СПИСОК МНОГОКВАРТИРНЫХ ДОМОВ,
A13: расположенных на территории муниципального образования Северского района, Краснодарского края, общее имущество в которых подлежит капитальному ремонту в этапе 2021 года планового периода 2020-2022 годов
A17: № п/п | B17: Адрес МКД (с указанием населенного пункта) | C17: Количество | F17: Общая площадь МКД | G17: Количество граждан, зарегистрированных по месту жительства в МКД | H17: Способ формирования фонда капитального ремонта МКД | I17: Стоимость капитального ремонта общего имущества в МКД | P17: Планируемый срок завершения капитального ремонта МКД (квартал, год)
C18: этажей | D18: подъездов | E18: квартир
I19: всего (сумма показателей граф 10 - 15) | J19: в том числе
J20: средства фонда капитального ремонта МКД | K20: в том числе средства финансовой поддержки | N20: прогнозируемый объем поступления взносов на капитальный ремонт по МКД в 2020 году | O20: заимствованные средства
K21: РФ | L21: Краснодарского края | M21: муниципальной
C22: ед. | D22: ед. | E22: ед. | F22: кв. м | G22: чел. | H22: РО/СС | I22: руб. | J22: руб. | K22: руб. | L22: руб. | M22: руб. | N22: руб. | O22: руб.
A23: 1 | B23: 2 | C23: 3 | D23: 4 | E23: 5 | F23: 6 | G23: 7 | H23: 8 | I23: 9 | J23: 10 | K23: 11 | L23: 12 | M23: 13 | N23: 14 | O23: 15 | P23: 16
A24: Всего по муниципальному образованию Северский район | C24: х | D24: х | E24: х | F24: =F26+F33+F39 -> 17283.55 | G24: =G26+G33+G39 -> 788 | H24: х | I24: =I26+I33+I39 -> 33397141 | J24: =J26+J33+J39 -> 4521808.6 | K24: 0 | L24: 0 | M24: 0 | N24: =N26+N33+N39 -> 800766.19 | O24: =O26+O33+O39 -> 28074566 | P24: x
A26: Всего по Афипскому городскому поселению | C26: х | D26: х | E26: х | F26: =SUM(F27:F32) -> 3224.63 | G26: =SUM(G27:G32) -> 143 | H26: х | I26: =SUM(I27:I32) -> 6501831.5 | J26: =SUM(J27:J32) -> 691555.46 | K26: 0 | L26: 0 | M26: 0 | N26: =SUM(N27:N32) -> 123332.45 | O26: =SUM(O27:O32) -> 5686943.5 | P26: х
A27: 1 | B27: Северский район, пгт Афипский, ул. Ленина, д. 10 | C27: 2 | D27: 1 | E27: 6 | F27: 466.2 | G27: 18 | H27: РО | I27: ='приложение 2'!C13+'приложение 3'!C13 -> 1145167.5 | J27: 112050.5 | K27: 0 | L27: 0 | M27: 0 | N27: 20119.51 | O27: =I27-J27-N27 -> 1012997.5 | P27: IV 2021
A28: 2 | B28: Северский район, пгт Афипский, ул. Ленина, д. 13 | C28: 2 | D28: 1 | E28: 33 | F28: 1045.53 | G28: 55 | H28: РО | I28: ='приложение 2'!C14+'приложение 3'!C14 -> 1182622.7 | J28: 126888.4 | K28: 0 | L28: 0 | M28: 0 | N28: 23932.49 | O28: =I28-J28-N28 -> 1031801.8 | P28: IV 2021
A29: 3 | B29: Северский район, пгт Афипский, ул. Октябрьская, д. 82 | C29: 2 | D29: 1 | E29: 8 | F29: 443.6 | G29: 19 | H29: РО | I29: ='приложение 2'!C15+'приложение 3'!C15 -> 1137892.6 | J29: 115015.81 | K29: 0 | L29: 0 | M29: 0 | N29: 20161.21 | O29: =I29-J29-N29 -> 1002715.6 | P29: IV 2021
A30: 4 | B30: Северский район, пгт Афипский, ул. Шоссейная, д. 12 | C30: 2 | D30: 1 | E30: 8 | F30: 391.5 | G30: 12 | H30: РО | I30: ='приложение 2'!C16+'приложение 3'!C16 -> 1053776.4 | J30: 126311.61 | K30: 0 | L30: 0 | M30: 0 | N30: 22193.05 | O30: =I30-J30-N30 -> 905271.69 | P30: IV 2021
A31: 5 | B31: Северский район, пгт Афипский, ул. Ленина, д. 6 | C31: 2 | D31: 1 | E31: 8 | F31: 457.2 | G31: 21 | H31: РО | I31: ='приложение 2'!C17+'приложение 3'!C17 -> 800918.77 | J31: 97998.85 | K31: 0 | L31: 0 | M31: 0 | N31: 17074.92 | O31: =I31-J31-N31 -> 685845 | P31: IV 2021
A32: 6 | B32: Северский район, пгт Афипский, ул. Комсомольская, д. 116 | C32: 2 | D32: 2 | E32: 8 | F32: 420.6 | G32: 18 | H32: РО | I32: ='приложение 2'!C18+'приложение 3'!C18 -> 1181453.5 | J32: 113290.29 | K32: 0 | L32: 0 | M32: 0 | N32: 19851.27 | O32: =I32-J32-N32 -> 1048311.9 | P32: IV 2021
A33: Всего по Северскому сельскому поселению | C33: х | D33: х | E33: х | F33: =SUM(F34:F38) -> 4447.2 | G33: =SUM(G34:G38) -> 218 | H33: х | I33: =SUM(I34:I38) -> 8413604.9 | J33: =SUM(J34:J38) -> 1096711 | K33: 0 | L33: 0 | M33: 0 | N33: =SUM(N34:N38) -> 201629.02 | O33: =SUM(O34:O38) -> 7115264.8 | P33: х
A34: 7 | B34: Северский район, ст-ца Северская, ул. Народная, д. 51 | C34: 2 | D34: 1 | E34: 8 | F34: 439.2 | G34: 10 | H34: РО | I34: ='приложение 2'!C20+'приложение 3'!C20 -> 1211713.1 | J34: 126594.57 | K34: 0 | L34: 0 | M34: 0 | N34: 22124.8 | O34: =I34-J34-N34 -> 1062993.7 | P34: IV 2021
A35: 8 | B35: Северский район, ст-ца Северская, ул. 50 лет Октября, д. 39 | C35: 5 | D35: 2 | E35: 30 | F35: 1793.6 | G35: 94 | H35: РО | I35: ='приложение 2'!C21+'приложение 3'!C21 -> 1308239.5 | J35: 344323.9 | K35: 0 | L35: 0 | M35: 0 | N35: 70811.76 | O35: =I35-J35-N35 -> 893103.87 | P35: IV 2021
A36: 9 | B36: Северский район, ст-ца Северская, ул. Запорожская, д. 24 | C36: 2 | D36: 3 | E36: 16 | F36: 820.2 | G36: 50 | H36: РО | I36: ='приложение 2'!C22+'приложение 3'!C22 -> 2222717.9 | J36: 213246.16 | K36: 0 | L36: 0 | M36: 0 | N36: 37103.54 | O36: =I36-J36-N36 -> 1972368.2 | P36: IV 2021
A37: 10 | B37: Северский район, ст-ца Северская, ул. Запорожская, д. 35 | C37: 3 | D37: 2 | E37: 18 | F37: 947 | G37: 55 | H37: РО | I37: ='приложение 2'!C23+'приложение 3'!C23 -> 3003536.3 | J37: 302589.83 | K37: 0 | L37: 0 | M37: 0 | N37: 52586.56 | O37: =I37-J37-N37 -> 2648359.9 | P37: IV 2021
A38: 11 | B38: Северский район, ст-ца Северская, ул. Пушкина, д. 41 | C38: 2 | D38: 2 | E38: 8 | F38: 447.2 | G38: 9 | H38: РО | I38: ='приложение 2'!C24+'приложение 3'!C24 -> 667398.17 | J38: 109956.58 | K38: 0 | L38: 0 | M38: 0 | N38: 19002.36 | O38: =I38-J38-N38 -> 538439.23 | P38: IV 2021
A39: Всего по Черноморскому городскому поселению | C39: х | D39: х | E39: х | F39: =SUM(F40:F50) -> 9611.72 | G39: =SUM(G40:G50) -> 427 | H39: х | I39: =SUM(I40:I50) -> 18481704 | J39: =SUM(J40:J50) -> 2733542.1 | K39: 0 | L39: 0 | M39: 0 | N39: =SUM(N40:N50) -> 475804.72 | O39: =SUM(O40:O50) -> 15272357 | P39: х
A40: 12 | B40: Северский район, пгт Черноморский, ул. Мира, д. 44 | C40: 2 | D40: 2 | E40: 8 | F40: 428.5 | G40: 14 | H40: РО | I40: ='приложение 2'!C26+'приложение 3'!C26 -> 572966.6 | J40: 103810.58 | K40: 0 | L40: 0 | M40: 0 | N40: 18446.58 | O40: =I40-J40-N40 -> 450709.44 | P40: IV 2021
A41: 13 | B41: Северский район, пгт Черноморский, ул. Мира, д. 48 | C41: 2 | D41: 2 | E41: 8 | F41: 411.7 | G41: 15 | H41: РО | I41: ='приложение 3'!C27 -> 41807 | J41: 41807 | K41: 0 | L41: 0 | M41: 0 | N41: 0 | O41: 0 | P41: IV 2021
A42: 14 | B42: Северский район, пгт Черноморский, ул. Новороссийская, д. 12 | C42: 2 | D42: 1 | E42: 8 | F42: 414.8 | G42: 15 | H42: РО | I42: ='приложение 2'!C28+'приложение 3'!C28 -> 1179434 | J42: 116168.35 | K42: 0 | L42: 0 | M42: 0 | N42: 20458.05 | O42: =I42-J42-N42 -> 1042807.6 | P42: IV 2021
A43: 15 | B43: Северский район, пгт Черноморский, ул. Кавказская, д. 11 | C43: 2 | D43: 2 | E43: 16 | F43: 657.5 | G43: 31 | H43: РО | I43: ='приложение 2'!C29+'приложение 3'!C29 -> 1631692.8 | J43: 190946.6 | K43: 0 | L43: 0 | M43: 0 | N43: 33570.99 | O43: =I43-J43-N43 -> 1407175.2 | P43: IV 2021
A44: 16 | B44: Северский район, пгт Черноморский, ул. Кавказская, д. 2 | C44: 3 | D44: 3 | E44: 23 | F44: 1173.28 | G44: 47 | H44: РО | I44: ='приложение 2'!C30+'приложение 3'!C30 -> 2461005.5 | J44: 350878.03 | K44: 0 | L44: 0 | M44: 0 | N44: 63501.57 | O44: =I44-J44-N44 -> 2046625.9 | P44: IV 2021
A45: 17 | B45: Северский район, пгт Черноморский, ул. Кавказская, д. 4 | C45: 3 | D45: 3 | E45: 24 | F45: 1158.52 | G45: 49 | H45: РО | I45: ='приложение 2'!C31+'приложение 3'!C31 -> 2139307.8 | J45: 354334.98 | K45: 0 | L45: 0 | M45: 0 | N45: 62168.8 | O45: =I45-J45-N45 -> 1722804 | P45: IV 2021
A46: 18 | B46: Северский район, пгт Черноморский, ул. Советская, д. 35 | C46: 2 | D46: 1 | E46: 8 | F46: 393 | G46: 18 | H46: РО | I46: ='приложение 2'!C32+'приложение 3'!C32 -> 1247385.2 | J46: 130908.46 | K46: 0 | L46: 0 | M46: 0 | N46: 23021.18 | O46: =I46-J46-N46 -> 1093455.5 | P46: IV 2021
A47: 19 | B47: Северский район, пгт Черноморский, ул. Кавказская, д. 15 | C47: 2 | D47: 2 | E47: 16 | F47: 647.72 | G47: 30 | H47: РО | I47: ='приложение 2'!C33+'приложение 3'!C33 -> 1553030.5 | J47: 204634.48 | K47: 0 | L47: 0 | M47: 0 | N47: 36097.57 | O47: =I47-J47-N47 -> 1312298.4 | P47: IV 2021
A48: 20 | B48: Северский район, пос. Октябрьский, ул. Пушкина, д. 1 | C48: 3 | D48: 2 | E48: 24 | F48: 1056.3 | G48: 49 | H48: РО | I48: ='приложение 2'!C34+'приложение 3'!C34 -> 1860417.5 | J48: 328415.75 | K48: 0 | L48: 0 | M48: 0 | N48: 58035.2 | O48: =I48-J48-N48 -> 1473966.6 | P48: IV 2021
A49: 21 | B49: Северский район, пос. Октябрьский, ул. Пушкина, д. 9 | C49: 3 | D49: 3 | E49: 36 | F49: 1662.66 | G49: 78 | H49: РО | I49: ='приложение 2'!C35+'приложение 3'!C35 -> 2887412.9 | J49: 490028.96 | K49: 0 | L49: 0 | M49: 0 | N49: 85712.02 | O49: =I49-J49-N49 -> 2311671.9 | P49: IV 2021
A50: 22 | B50: Северский район, пос. Октябрьский, ул. Пушкина, д. 3 | C50: 3 | D50: 3 | E50: 35 | F50: 1607.74 | G50: 81 | H50: РО | I50: ='приложение 2'!C36+'приложение 3'!C36 -> 2907244.5 | J50: 421608.91 | K50: 0 | L50: 0 | M50: 0 | N50: 74792.76 | O50: =I50-J50-N50 -> 2410842.8 | P50: IV 2021

Sheet приложение 2
A1: Раздел 2. СПИСОК МНОГОКВАРТИРНЫХ ДОМОВ,
A2: расположенных на территории муниципального образования Северский район, Краснодарского края, в отношении которых в этапе 2021 года планового периода 2020-2022 годов подлежат выполнению работы по капитальному ремонту общего имущества, предусмотренные частью 1 статьи 166 Жилищного кодекса Российской Федерации
A5: № п/п | B5: Адрес МКД (с указанием населенного пункта) | C5: Стоимость капитального ремонта общего имущества в МКД, всего (сумма показателей граф 4 – 9, 11, 13, 15, 17, 19,21,23) | D5: Виды работ по капитальному ремонту общего имущества в МКД, предусмотренные частью 1 статьи 166 ЖК РФ
D6: ремонт внутридомовых инженерных систем | J6: ремонт, замена модернизация лифтов | L6: ремонт лифтовых шахт | N6: ремонт машинных и блочных помещений | P6: ремонт крыши | R6: ремонт подвальных помещений | T6: ремонт фасада (отмостка без фасада) | V6: ремонт фундамента
D8: электроснабжения | E8: теплоснабжения | F8: газоснабжения | G8: холодного водоснабжения | H8: горячего водоснабжения | I8: водоотведения
D9: руб. | E9: руб. | F9: руб. | G9: руб. | H9: руб. | I9: руб. | J9: ед. | K9: руб. | L9: кв. м | M9: руб. | N9: кв. м | O9: руб. | P9: кв. м | Q9: руб. | R9: кв. м | S9: руб. | T9: кв. м | U9: руб. | V9: кв. м | W9: руб.
A10: 1 | B10: 2 | C10: 3 | D10: 4 | E10: 5 | F10: 6 | G10: 7 | H10: 8 | I10: 9 | J10: 10 | K10: 11 | L10: 12 | M10: 13 | N10: 14 | O10: 15 | P10: 16 | Q10: 17 | R10: 18 | S10: 19 | T10: 20 | U10: 21 | V10: 22 | W10: 23
A11: Всего по муниципальному образованию Северский район | C11: =C12+C19+C25 -> 32212837 | D11: =D12+D19+D25 -> 1344579.3 | E11: =E12+E19+E25 -> 0 | F11: =F12+F19+F25 -> 0 | G11: =G12+G19+G25 -> 84291.42 | H11: =H12+H19+H25 -> 146670.9 | I11: =I12+I19+I25 -> 38141.38 | J11: =J12+J19+J25 -> 0 | ... W11: =W12+W19+W25 -> 0
A12: Всего по Афипскому городскому поселению | C12: =SUM(C13:C18) -> 6220297.4 | D12: =D17 -> 79625.97 | E12: 0 | F12: 0 | G12: 0 | H12: 0 | I12: 0 | J12: 0 | K12: 0 | L12: 0 | M12: 0 | N12: 0 | O12: 0 | P12: =SUM(P13:P18) -> 2463.2 | Q12: =SUM(Q13:Q18) -> 6140671.5 | R12: 0 | S12: 0 | T12: 0 | U12: 0 | V12: 0 | W12: 0
A13: 1 | B13: Северский район, пгт Афипский, ул. Ленина, д. 10 | C13: 1099284.5 | D13: 0 | E13: 0 | F13: 0 | G13: 0 | H13: 0 | I13: 0 | J13: 0 | K13: 0 | L13: 0 | M13: 0 | N13: 0 | O13: 0 | P13: 363 | Q13: 1099284.5 | R13: 0 | S13: 0 | T13: 0 | U13: 0 | V13: 0 | W13: 0
A14: 2 | B14: Северский район, пгт Афипский, ул. Ленина, д. 13 | C14: 1137537.7 | D14: 0 | E14: 0 | F14: 0 | G14: 0 | H14: 0 | I14: 0 | J14: 0 | K14: 0 | L14: 0 | M14: 0 | N14: 0 | O14: 0 | P14: 716.22 | Q14: 1137537.7 | R14: 0 | S14: 0 | T14: 0 | U14: 0 | V14: 0 | W14: 0
A15: 3 | B15: Северский район, пгт Афипский, ул. Октябрьская, д. 82 | C15: 1090922.6 | D15: 0 | E15: 0 | F15: 0 | G15: 0 | H15: 0 | I15: 0 | J15: 0 | K15: 0 | L15: 0 | M15: 0 | N15: 0 | O15: 0 | P15: 352.3 | Q15: 1090922.6 | R15: 0 | S15: 0 | T15: 0 | U15: 0 | V15: 0 | W15: 0
A16: 4 | B16: Северский район, пгт Афипский, ул. Шоссейная, д. 12 | C16: =I16+Q16 -> 1009517.3 | D16: 0 | E16: 0 | F16: 0 | G16: 0 | H16: 0 | I16: 0 | J16: 0 | K16: 0 | L16: 0 | M16: 0 | N16: 0 | O16: 0 | P16: 306.1 | Q16: 1009517.3 | R16: 0 | S16: 0 | T16: 0 | U16: 0 | V16: 0 | W16: 0
A17: 5 | B17: Северский район, пгт Афипский, ул. Ленина, д. 6 | C17: =D17+Q17 -> 747960.76 | D17: 79625.97 | E17: 0 | F17: 0 | G17: 0 | H17: 0 | I17: 0 | J17: 0 | K17: 0 | L17: 0 | M17: 0 | N17: 0 | O17: 0 | P17: 352.7 | Q17: 668334.79 | R17: 0 | S17: 0 | T17: 0 | U17: 0 | V17: 0 | W17: 0
A18: 6 | B18: Северский район, пгт Афипский, ул. Комсомольская, д. 116 | C18: 1135074.5 | D18: 0 | E18: 0 | F18: 0 | G18: 0 | H18: 0 | I18: 0 | J18: 0 | K18: 0 | L18: 0 | M18: 0 | N18: 0 | O18: 0 | P18: 372.88 | Q18: 1135074.5 | R18: 0 | S18: 0 | T18: 0 | U18: 0 | V18: 0 | W18: 0
A19: Всего по Северскому сельскому поселению | C19: =SUM(C20:C24) -> 8069815.6 | D19: =D21 -> 579155.73 | E19: 0 | F19: 0 | G19: =G21 -> 84291.42 | H19: =H21 -> 146670.9 | I19: =I21 -> 38141.38 | J19: 0 | K19: 0 | L19: 0 | M19: 0 | N19: 0 | O19: 0 | P19: =P20+P22+P24 -> 1375 | Q19: =SUM(Q20:Q24) -> 3957107.1 | R19: 0 | S19: 0 | T19: =SUM(T20:T24) -> 813.2 | U19: =SUM(U20:U24) -> 3264449.1 | V19: 0 | W19: 0
A20: 7 | B20: Северский район, ст-ца Северская, ул. Народная, д. 51 | C20: =Q20 -> 1164267.1 | D20: 0 | E20: 0 | F20: 0 | G20: 0 | H20: 0 | I20: 0 | J20: 0 | K20: 0 | L20: 0 | M20: 0 | N20: 0 | O20: 0 | P20: 353.2 | Q20: 1164267.1 | R20: 0 | S20: 0 | T20: 0 | U20: 0 | V20: 0 | W20: 0
A21: 8 | B21: Северский район, ст-ца Северская, ул. 50 лет Октября, д. 39 | C21: =D21+G21+H21+I21+U21 -> 1156133.2 | D21: 579155.73 | E21: 0 | F21: 0 | G21: 84291.42 | H21: 146670.9 | I21: 38141.38 | J21: 0 | K21: 0 | L21: 0 | M21: 0 | N21: 0 | O21: 0 | P21: 0 | Q21: 0 | R21: 0 | S21: 0 | T21: 132 | U21: 307873.82 | V21: 0 | W21: 0
A22: 9 | B22: Северский район, ст-ца Северская, ул. Запорожская, д. 24 | C22: =Q22 -> 2173112.9 | D22: 0 | E22: 0 | F22: 0 | G22: 0 | H22: 0 | I22: 0 | J22: 0 | K22: 0 | L22: 0 | M22: 0 | N22: 0 | O22: 0 | P22: 686.6 | Q22: 2173112.9 | R22: 0 | S22: 0 | T22: 0 | U22: 0 | V22: 0 | W22: 0
A23: 10 | B23: Северский район, ст-ца Северская, ул. Запорожская, д. 35 | C23: =U23 -> 2956575.3 | D23: 0 | E23: 0 | F23: 0 | G23: 0 | H23: 0 | I23: 0 | J23: 0 | K23: 0 | L23: 0 | M23: 0 | N23: 0 | O23: 0 | P23: 0 | Q23: 0 | R23: 0 | S23: 0 | T23: 681.2 | U23: 2956575.3 | V23: 0 | W23: 0
A24: 11 | B24: Северский район, ст-ца Северская, ул. Пушкина, д. 41 | C24: =Q24 -> 619727.17 | D24: 0 | E24: 0 | F24: 0 | G24: 0 | H24: 0 | I24: 0 | J24: 0 | K24: 0 | L24: 0 | M24: 0 | N24: 0 | O24: 0 | P24: 335.2 | Q24: 619727.17 | R24: 0 | S24: 0 | T24: 0 | U24: 0 | V24: 0 | W24: 0
A25: Всего по Черноморскому городскому поселению | C25: =SUM(C26:C36) -> 17922724 | D25: =SUM(D26:D36) -> 685797.64 | E25: =SUM(E26:E36) -> 0 | F25: =SUM(F26:F36) -> 0 | G25: =SUM(G26:G36) -> 0 | H25: =SUM(H26:H36) -> 0 | I25: =SUM(I26:I36) -> 0 | J25: =SUM(J26:J36) -> 0 | ... W25: =SUM(W26:W36) -> 0
A26: 12 | B26: Северский район, пгт Черноморский, ул. Мира, д. 44 | C26: =Q26 -> 530502.6 | D26: 0 | E26: 0 | F26: 0 | G26: 0 | H26: 0 | I26: 0 | J26: 0 | K26: 0 | L26: 0 | M26: 0 | N26: 0 | O26: 0 | P26: 379.9 | Q26: 530502.6 | R26: 0 | S26: 0 | T26: 0 | U26: 0 | V26: 0 | W26: 0
A27: 13 | B27: Северский район, пгт Черноморский, ул. Мира, д. 48 | C27: 0 | D27: 0 | E27: 0 | F27: 0 | G27: 0 | H27: 0 | I27: 0 | J27: 0 | K27: 0 | L27: 0 | M27: 0 | N27: 0 | O27: 0 | P27: 0 | Q27: 0 | R27: 0 | S27: 0 | T27: 0 | U27: 0 | V27: 0 | W27: 0
A28: 14 | B28: Северский район, пгт Черноморский, ул. Новороссийская, д. 12 | C28: =Q28 -> 1137822 | D28: 0 | E28: 0 | F28: 0 | G28: 0 | H28: 0 | I28: 0 | J28: 0 | K28: 0 | L28: 0 | M28: 0 | N28: 0 | O28: 0 | P28: 355 | Q28: 1137822 | R28: 0 | S28: 0 | T28: 0 | U28: 0 | V28: 0 | W28: 0
A29: 15 | B29: Северский район, пгт Черноморский, ул. Кавказская, д. 11 | C29: =Q29 -> 1585058.8 | D29: 0 | E29: 0 | F29: 0 | G29: 0 | H29: 0 | I29: 0 | J29: 0 | K29: 0 | L29: 0 | M29: 0 | N29: 0 | O29: 0 | P29: 438.76 | Q29: 1585058.8 | R29: 0 | S29: 0 | T29: 0 | U29: 0 | V29: 0 | W29: 0
A30: 16 | B30: Северский район, пгт Черноморский, ул. Кавказская, д. 2 | C30: =Q30 -> 2410795.5 | D30: 0 | E30: 0 | F30: 0 | G30: 0 | H30: 0 | I30: 0 | J30: 0 | K30: 0 | L30: 0 | M30: 0 | N30: 0 | O30: 0 | P30: 572.98 | Q30: 2410795.5 | R30: 0 | S30: 0 | T30: 0 | U30: 0 | V30: 0 | W30: 0
A31: 17 | B31: Северский район, пгт Черноморский, ул. Кавказская, д. 4 | C31: =Q31 -> 2090243.8 | D31: 0 | E31: 0 | F31: 0 | G31: 0 | H31: 0 | I31: 0 | J31: 0 | K31: 0 | L31: 0 | M31: 0 | N31: 0 | O31: 0 | P31: 569.54 | Q31: 2090243.8 | R31: 0 | S31: 0 | T31: 0 | U31: 0 | V31: 0 | W31: 0
A32: 18 | B32: Северский район, пгт Черноморский, ул. Советская, д. 35 | C32: =Q32 -> 1200728.2 | D32: 0 | E32: 0 | F32: 0 | G32: 0 | H32: 0 | I32: 0 | J32: 0 | K32: 0 | L32: 0 | M32: 0 | N32: 0 | O32: 0 | P32: 364 | Q32: 1200728.2 | R32: 0 | S32: 0 | T32: 0 | U32: 0 | V32: 0 | W32: 0
A33: 19 | B33: Северский район, пгт Черноморский, ул. Кавказская, д. 15 | C33: =Q33 -> 1506802.5 | D33: 0 | E33: 0 | F33: 0 | G33: 0 | H33: 0 | I33: 0 | J33: 0 | K33: 0 | L33: 0 | M33: 0 | N33: 0 | O33: 0 | P33: 437.6 | Q33: 1506802.5 | R33: 0 | S33: 0 | T33: 0 | U33: 0 | V33: 0 | W33: 0
A34: 20 | B34: Северский район, пос. Октябрьский, ул. Пушкина, д. 1 | C34: =Q34 -> 1810028.5 | D34: 0 | E34: 0 | F34: 0 | G34: 0 | H34: 0 | I34: 0 | J34: 0 | K34: 0 | L34: 0 | M34: 0 | N34: 0 | O34: 0 | P34: 572 | Q34: 1810028.5 | R34: 0 | S34: 0 | T34: 0 | U34: 0 | V34: 0 | W34: 0
A35: 21 | B35: Северский район, пос. Октябрьский, ул. Пушкина, д. 9 | C35: =D35+Q35 -> 2815107 | D35: 349070.07 | E35: 0 | F35: 0 | G35: 0 | H35: 0 | I35: 0 | J35: 0 | K35: 0 | L35: 0 | M35: 0 | N35: 0 | O35: 0 | P35: 707.82 | Q35: 2466036.9 | R35: 0 | S35: 0 | T35: 0 | U35: 0 | V35: 0 | W35: 0
A36: 22 | B36: Северский район, пос. Октябрьский, ул. Пушкина, д. 3 | C36: =D36+Q36 -> 2835635.1 | D36: 336727.57 | E36: 0 | F36: 0 | G36: 0 | H36: 0 | I36: 0 | J36: 0 | K36: 0 | L36: 0 | M36: 0 | N36: 0 | O36: 0 | P36: 828.3 | Q36: 2498907.6 | R36: 0 | S36: 0 | T36: 0 | U36: 0 | V36: 0 | W36: 0

Sheet приложение 3
A1: Раздел 3. СПИСОК МНОГОКВАРТИРНЫХ ДОМОВ,
A2: расположенных на территории муниципального образования Северского района, Краснодарского края, в отношении которых в этапе 2021 года планового периода 2020-2022 годов подлежат выполнению услуги и работы по капитальному ремонту общего имущества, предусмотренные пунктами 2-5 части 1 статьи 26 Закона Краснодарского края от 1 июля 2013 года № 2735-КЗ "Об организации проведения капитального ремонта общего имущества собственников помещений в многоквартирных домах, расположенных на территории Краснодарского края"
A6: № п/п | B6: Адрес МКД (с указанием населенного пункта) | C6: Стоимость капитального ремонта общего имущества в МКД, всего (сумма показателей граф 4 - 11) | D6: Виды услуг и работ по капитальному ремонту общего имущества в МКД, предусмотренные пунктами 2 - 5 части 1 статьи 26 Закона Краснодарского края от 1 июля 2013 года № 2735-КЗ
D8: оценка технического состояния МКД, составление дефектных ведомостей, ведомостей объемов работ | E8: разработка проектной документации | F8: проведение государственной экспертизы проектной документации | G8: составление сметной документации | H8: проведение проверки сметной стоимости капитального ремонта | I8: оценка соответствия лифтов требованиям Технического регламента | J8: осуществление строительного контроля | K8: капитальный ремонт или замена признанных непригодными для эксплуатации автоматической установки пожарной сигнализации в местах общего пользования и системы противодымовой защиты (дымоудаления)
C9: руб. | D9: руб. | E9: руб. | F9: руб. | G9: руб. | H9: руб. | I9: руб. | J9: руб. | K9: руб.
A10: 1 | B10: 2 | C10: 3 | D10: 4 | E10: 5 | F10: 6 | G10: 7 | H10: 8 | I10: 9 | J10: 10 | K10: 11
A11: Всего по муниципальному образованию Северский район | C11: =C12+C19+C25 -> 1184303.6 | D11: =D12+D19+D25 -> 0 | E11: =E12+E19+E25 -> 656303.6 | F11: =F12+F19+F25 -> 0 | G11: =G12+G19+G25 -> 0 | H11: =H12+H19+H25 -> 528000 | I11: =I12+I19+I25 -> 0 | J11: =J12+J19+J25 -> 0 | K11: =K12+K19+K25 -> 0
A12: Всего по Афипскому городскому поселению | C12: =SUM(C13:C18) -> 281534.01 | D12: =SUM(D13:D18) -> 0 | E12: =SUM(E13:E18) -> 137534.01 | F12: =SUM(F13:F18) -> 0 | G12: =SUM(G13:G18) -> 0 | H12: =SUM(H13:H18) -> 144000 | I12: =SUM(I13:I18) -> 0 | J12: =SUM(J13:J18) -> 0 | K12: =SUM(K13:K18) -> 0
A13: 1 | B13: Северский район, пгт Афипский, ул. Ленина, д. 10 | C13: =SUM(D13:K13) -> 45883 | D13: 0 | E13: 21883 | F13: 0 | G13: 0 | H13: 24000 | I13: 0 | J13: 0 | K13: 0
A14: 2 | B14: Северский район, пгт Афипский, ул. Ленина, д. 13 | C14: =SUM(D14:K14) -> 45085 | D14: 0 | E14: 21085 | F14: 0 | G14: 0 | H14: 24000 | I14: 0 | J14: 0 | K14: 0
A15: 3 | B15: Северский район, пгт Афипский, ул. Октябрьская, д. 82 | C15: =SUM(D15:K15) -> 46970 | D15: 0 | E15: 22970 | F15: 0 | G15: 0 | H15: 24000 | I15: 0 | J15: 0 | K15: 0
A16: 4 | B16: Северский район, пгт Афипский, ул. Шоссейная, д. 12 | C16: =SUM(D16:K16) -> 44259 | D16: 0 | E16: 20259 | F16: 0 | G16: 0 | H16: 24000 | I16: 0 | J16: 0 | K16: 0
A17: 5 | B17: Северский район, пгт Афипский, ул. Ленина, д. 6 | C17: =SUM(D17:K17) -> 52958.01 | D17: 0 | E17: 28958.01 | F17: 0 | G17: 0 | H17: 24000 | I17: 0 | J17: 0 | K17: 0
A18: 6 | B18: Северский район, пгт Афипский, ул. Комсомольская, д. 116 | C18: =SUM(D18:K18) -> 46379 | D18: 0 | E18: 22379 | F18: 0 | G18: 0 | H18: 24000 | I18: 0 | J18: 0 | K18: 0
A19: Всего по Северскому сельскому поселению | C19: =SUM(C20:C24) -> 343789.28 | D19: =SUM(D20:D24) -> 0 | E19: =SUM(E20:E24) -> 223789.28 | F19: =SUM(F20:F24) -> 0 | G19: =SUM(G20:G24) -> 0 | H19: =SUM(H20:H24) -> 120000 | I19: =SUM(I20:I24) -> 0 | J19: =SUM(J20:J24) -> 0 | K19: =SUM(K20:K24) -> 0
A20: 7 | B20: Северский район, ст-ца Северская, ул. Народная, д. 51 | C20: =SUM(D20:K20) -> 47446 | D20: 0 | E20: 23446 | F20: 0 | G20: 0 | H20: 24000 | I20: 0 | J20: 0 | K20: 0
A21: 8 | B21: Северский район, ст-ца Северская, ул. 50 лет Октября, д. 39 | C21: =SUM(D21:K21) -> 152106.28 | D21: 0 | E21: 128106.28 | F21: 0 | G21: 0 | H21: 24000 | I21: 0 | J21: 0 | K21: 0
A22: 9 | B22: Северский район, ст-ца Северская, ул. Запорожская, д. 24 | C22: =SUM(D22:K22) -> 49605 | D22: 0 | E22: 25605 | F22: 0 | G22: 0 | H22: 24000 | I22: 0 | J22: 0 | K22: 0
A23: 10 | B23: Северский район, ст-ца Северская, ул. Запорожская, д. 35 | C23: =SUM(D23:K23) -> 46961 | D23: 0 | E23: 22961 | F23: 0 | G23: 0 | H23: 24000 | I23: 0 | J23: 0 | K23: 0
A24: 11 | B24: Северский район, ст-ца Северская, ул. Пушкина, д. 41 | C24: =SUM(D24:K24) -> 47671 | D24: 0 | E24: 23671 | F24: 0 | G24: 0 | H24: 24000 | I24: 0 | J24: 0 | K24: 0
A25: Всего по Черноморскому городскому поселению | C25: =SUM(C26:C36) -> 558980.31 | D25: =SUM(D26:D36) -> 0 | E25: =SUM(E26:E36) -> 294980.31 | F25: =SUM(F26:F36) -> 0 | G25: =SUM(G26:G36) -> 0 | H25: =SUM(H26:H36) -> 264000 | I25: =SUM(I26:I36) -> 0 | J25: =SUM(J26:J36) -> 0 | K25: =SUM(K26:K36) -> 0
A26: 12 | B26: Северский район, пгт Черноморский, ул. Мира, д. 44 | C26: =SUM(D26:K26) -> 42464 | D26: 0 | E26: 18464 | F26: 0 | G26: 0 | H26: 24000 | I26: 0 | J26: 0 | K26: 0
A27: 13 | B27: Северский район, пгт Черноморский, ул. Мира, д. 48 | C27: =SUM(D27:K27) -> 41807 | D27: 0 | E27: 17807 | F27: 0 | G27: 0 | H27: 24000 | I27: 0 | J27: 0 | K27: 0
A28: 14 | B28: Северский район, пгт Черноморский, ул. Новороссийская, д. 12 | C28: =SUM(D28:K28) -> 41612 | D28: 0 | E28: 17612 | F28: 0 | G28: 0 | H28: 24000 | I28: 0 | J28: 0 | K28: 0
A29: 15 | B29: Северский район, пгт Черноморский, ул. Кавказская, д. 11 | C29: =SUM(D29:K29) -> 46634 | D29: 0 | E29: 22634 | F29: 0 | G29: 0 | H29: 24000 | I29: 0 | J29: 0 | K29: 0
A30: 16 | B30: Северский район, пгт Черноморский, ул. Кавказская, д. 2 | C30: =SUM(D30:K30) -> 50210 | D30: 0 | E30: 26210 | F30: 0 | G30: 0 | H30: 24000 | I30: 0 | J30: 0 | K30: 0
A31: 17 | B31: Северский район, пгт Черноморский, ул. Кавказская, д. 4 | C31: =SUM(D31:K31) -> 49064 | D31: 0 | E31: 25064 | F31: 0 | G31: 0 | H31: 24000 | I31: 0 | J31: 0 | K31: 0
A32: 18 | B32: Северский район, пгт Черноморский, ул. Советская, д. 35 | C32: =SUM(D32:K32) -> 46657 | D32: 0 | E32: 22657 | F32: 0 | G32: 0 | H32: 24000 | I32: 0 | J32: 0 | K32: 0
A33: 19 | B33: Северский район, пгт Черноморский, ул. Кавказская, д. 15 | C33: =SUM(D33:K33) -> 46228 | D33: 0 | E33: 22228 | F33: 0 | G33: 0 | H33: 24000 | I33: 0 | J33: 0 | K33: 0
A34: 20 | B34: Северский район, пос. Октябрьский, ул. Пушкина, д. 1 | C34: =SUM(D34:K34) -> 50389 | D34: 0 | E34: 26389 | F34: 0 | G34: 0 | H34: 24000 | I34: 0 | J34: 0 | K34: 0
A35: 21 | B35: Северский район, пос. Октябрьский, ул. Пушкина, д. 9 | C35: =SUM(D35:K35) -> 72305.96 | D35: 0 | E35: 48305.96 | F35: 0 | G35: 0 | H35: 24000 | I35: 0 | J35: 0 | K35: 0
A36: 22 | B36: Северский район, пос. Октябрьский, ул. Пушкина, д. 3 | C36: =SUM(D36:K36) -> 71609.35 | D36: 0 | E36: 47609.35 | F36: 0 | G36: 0 | H36: 24000 | I36: 0 | J36: 0 | K36: 0

Sheet приложение 4
A2: Раздел 4. ПЛАНИРУЕМЫЕ ПОКАЗАТЕЛИ
A3: выполнения регионального краткосрочного плана по плановому периоду 2017-2019, 2020-2022 годов (этап 2021 года)
A5: № п/п | B5: Наименование муниципального образования | C5: Суммарная общая площадь многоквартир-ных домов (далее -МКД) всего | D5: Количество граждан, зарегистриро- ванных по месту жительства в МКД | E5: Количество МКД | J5: Стоимость капитального ремонта по плановому этапу трехлетнего планового периода
E6: I квартал | F6: II квартал | G6: III квартал | H6: IV квартал | I6: всего | J6: I квартал | K6: II квартал | L6: III квартал | M6: IV квартал | N6: всего
C7: кв. м | D7: чел. | E7: ед. | F7: ед. | G7: ед. | H7: ед. | I7: ед. | J7: руб. | K7: руб. | L7: руб. | M7: руб. | N7: руб.
A8: 1 | B8: 2 | C8: 3 | D8: 4 | E8: 5 | F8: 6 | G8: 7 | H8: 8 | I8: 9 | J8: 10 | K8: 11 | L8: 12 | M8: 13 | N8: 14
A9: 1 | B9: Северский район | C9: 17283.55 | D9: 788 | H9: 22 | I9: 22 | M9: 33397141 | N9: 33397141
A15: Заместитель главы администрации | M15: В.Г. Видинеев
